BEGIN:VCALENDAR
VERSION:2.0
PRODID:-//Stadtgeschichte München//DE
CALSCALE:GREGORIAN
BEGIN:VEVENT
UID:3929@stadtgeschichte-muenchen.de
SUMMARY:NS-Spurensuche in Schwabing:
DESCRIPTION:&lt;p&gt; Überall in Schwabing lebten in den 1930er Jahren Bürgerinnen und Bürger, die aufgrund der Rassegesetze der Nazis verfolgt &amp;nbsp;wurden. Bei der Führung werden Orte aufgesucht, an denen wichtige jüdische Einrichtungen ansässig waren.&lt;/p&gt;
DTSTART:20130719T160000
DTEND:20130719T173000
LOCATION:Antonienstr. 7
ORGANIZER:MVHS München Nord
END:VEVENT
END:VCALENDAR