BEGIN:VCALENDAR
VERSION:2.0
PRODID:-//Stadtgeschichte München//DE
CALSCALE:GREGORIAN
BEGIN:VEVENT
UID:3940@stadtgeschichte-muenchen.de
SUMMARY:Nachnutzung von Militärflächen im Münchner Norden
DESCRIPTION:&lt;p&gt; Bei diesen Führungen in Kooperation mit dem Referat für Stadtplanung und Bauordnung wird vorgestellt, wie auf ehemaligen Militärflächen im Münchner Norden neue Stadtviertel entstehen.&lt;/p&gt; &lt;p&gt; Am nördlichen Stadtrand enstanden auf einem ehemaligen Truppenübungsplatz rund 2500 Wohnungen mit hohem Wohnwert aufgrund der Lage an der Haidelandschaft. Die â€žDiagonale&quot; über der U-Bahn verknüpft die vielfältigen Aufenthalts- und Spielmöglichkeiten, Betreuungs- und Einkaufsangebote. Beispiele herausragender Architektur, wie Dominikuszentrum, Studentenwohnanlage und Schule, prägen das Quartier.&lt;/p&gt; &lt;p&gt; &amp;nbsp;&lt;/p&gt;
DTSTART:20130517T160000
DTEND:20130517T180000
LOCATION:U-Bahnhof Dülferstr., Ausgang MIRA
ORGANIZER:MVHS München Mitte   
END:VEVENT
END:VCALENDAR