BEGIN:VCALENDAR
VERSION:2.0
PRODID:-//Stadtgeschichte München//DE
CALSCALE:GREGORIAN
BEGIN:VEVENT
UID:3942@stadtgeschichte-muenchen.de
SUMMARY:Nachnutzung von Militärflächen im Münchner Norden
DESCRIPTION:&lt;p&gt; Bei diesen Führungen in Kooperation mit dem Referat für Stadtplanung und Bauordnung wird vorgestellt, wie auf ehemaligen Militärflächen im Münchner Norden neue Stadtviertel entstehen.&lt;/p&gt; &lt;div&gt; Das neue Stadtviertel auf dem Gelände der ehemaligen Funkkaserne Nach dem Abschluss einer langen und aufwändigen Planungsphase beginnt Anfang 2013 die Bebauung der ehemaligen Funkkaserne. Geplant sind ca. 1600 Wohnungen um eine große zentrale Parkfläche, dazu eine Grundschule, vier Kindertagesstätten, ein Haus für Kinder, Jugendliche und Familien sowie ein großer Bolzplatz. Nahe der Trambahnhaltestelle werden Läden und Gewerbeflächen realisiert, die zur Entstehung eines eigenständigen Wohnquartiers beitragen.&lt;/div&gt; &lt;div&gt; &amp;nbsp;&lt;/div&gt;
DTSTART:20130711T160000
DTEND:20130711T180000
LOCATION:Zufahrt Funkkasernengelände 
ORGANIZER:MVHS München Nord
END:VEVENT
END:VCALENDAR