BEGIN:VCALENDAR
VERSION:2.0
PRODID:-//Stadtgeschichte München//DE
CALSCALE:GREGORIAN
BEGIN:VEVENT
UID:3944@stadtgeschichte-muenchen.de
SUMMARY:Nachnutzung von Militärflächen im Münchner Norden
DESCRIPTION:&lt;p&gt; Bei diesen Führungen in Kooperation mit dem Referat für Stadtplanung und Bauordnung wird vorgestellt, wie auf ehemaligen Militärflächen im Münchner Norden neue Stadtviertel entstehen.&lt;/p&gt; &lt;div&gt; &lt;p&gt; Am Harthof hat die GWG kurz vor dem Zweiten Weltkrieg und ab 1950 zwei- bis fünfgeschossige Zeilenbauten im sozialen Wohnungsbau errichtet. 1978 lebten hier schon fast 11 000 Menschen in 3500 Wohnungen. Da die Einfach-Wohnungen nicht mehr den heutigen Ansprüchen entsprachen, wird seit 2004 der gesamte Bestand Schritt für Schritt abgerissen und neu gebaut. In den modernen, energieeffizienten Gebäuden - bis hin zum Passivhaus - entstehen auch neue Wohnformen für alte oder demente Menschen oder eine Wohngruppe der Pfennigparade. Zum hohen Wohnwert tragen grüne Höfe und Mietergärten bei. Die Siedlung am Harthof wird erneuert, ohne ihr Gesicht zu verlieren.&lt;/p&gt; &lt;/div&gt; &lt;p&gt; &amp;nbsp;&lt;/p&gt;
DTSTART:20130626T163000
DTEND:20130626T180000
LOCATION: vor der Hausverwaltung, Lieberweg 46
ORGANIZER:MVHS München Mitte   
END:VEVENT
END:VCALENDAR