BEGIN:VCALENDAR
VERSION:2.0
PRODID:-//Stadtgeschichte München//DE
CALSCALE:GREGORIAN
BEGIN:VEVENT
UID:3968@stadtgeschichte-muenchen.de
SUMMARY:Kunstprojekt Petuelpark: „Idylle und Inferno&quot;
DESCRIPTION:&lt;p&gt; Der Film zeigt die Entstehung des Parks auf dem Petueltunnel und seiner zahlreichen Kunstwerke. Der Dokumentarfilmer Frank Sauer hat im Auftrag von QUIVID, dem Kunst-am-Bau-Programm der Landeshauptstadt München, die Gestaltung des Parks auf dem Petueltunnel mit der Kamera begleitet.&lt;/p&gt; &lt;p&gt; Zur Einstimmung auf die Führung durch den Petuelpark am Sonntag, den 4.8.2013.&lt;/p&gt;
DTSTART:20130725T190000
DTEND:20130725T203000
LOCATION:Volkshochschule - Seidlvilla - Nikolaiplatz 1b
ORGANIZER:MVHS München Nord
END:VEVENT
END:VCALENDAR