BEGIN:VCALENDAR
VERSION:2.0
PRODID:-//Stadtgeschichte München//DE
CALSCALE:GREGORIAN
BEGIN:VEVENT
UID:3985@stadtgeschichte-muenchen.de
SUMMARY:BMW-Werk
DESCRIPTION:&lt;p&gt; Der gesamte Produktionsdurchlauf von der Stahlrolle bis zum fertigen Fahrzeug wird bei dieser Werksbesichtigung gezeigt. Stationen sind Presswerk, Karosseriebau, Lackiererei und Motorenbau. Auch die besonderen Arbeitszeiten und die Probleme, die ein Großbetrieb inmitten von Wohnsiedlungen mit sich bringt, werden angesprochen.&lt;/p&gt;
DTSTART:20130515T160000
DTEND:20130515T180000
LOCATION:BMW Welt, Infocounter Nord (Ecke Georg-Brauchle-Ring/Lerchenauer Str.)
ORGANIZER:MVHS München Mitte   
END:VEVENT
END:VCALENDAR