BEGIN:VCALENDAR
VERSION:2.0
PRODID:-//Stadtgeschichte München//DE
CALSCALE:GREGORIAN
BEGIN:VEVENT
UID:3986@stadtgeschichte-muenchen.de
SUMMARY:FIZ-Meile im BMW Forschungs- und Innovationszentrum
DESCRIPTION:&lt;p&gt; Die Entwicklung und Entstehung des Produkts Auto kann man eindrucksvoll bei einem Rundgang im BMW Forschungs- und Innovationszentrum (FIZ) erleben, das im Münchner Norden hochqualifizierte Arbeitsplätze für mehr als 10000 Mitarbeiter/innen bietet. Forschung und Entwicklungen für neue Antriebstechniken, Leichtbau, Rapid-Techniken und zu Aspekten der aktiven und passiven Sicherheit werden erläutert und verschiedene Labors besichtigt.&lt;/p&gt; &lt;div&gt; Die Arbeit in vernetzten Strukturen wird dabei deutlich gemacht.&lt;/div&gt;
DTSTART:20130610T130000
DTEND:20130610T150000
LOCATION:Eingangshalle, Haupteingang, Knorrstr. 147 
ORGANIZER:MVHS München Mitte   
END:VEVENT
END:VCALENDAR