BEGIN:VCALENDAR
VERSION:2.0
PRODID:-//Stadtgeschichte München//DE
CALSCALE:GREGORIAN
BEGIN:VEVENT
UID:3996@stadtgeschichte-muenchen.de
SUMMARY:Atelier für Restaurierung
DESCRIPTION:&lt;p&gt; In dem Atelier in Milbertshofen werden Möbelstücke, Gemälde, Rahmen und andere Objekte restauriert. Die Restaurator(inn)en verwenden traditionelle Arbeitstechniken und historisch belegte Materialien und verbinden diese mit modernen Konservierungs- und Restaurierungsmethoden. Dabei versuchen sie, sowohl den ursprünglichen Gesamteindruck als auch die Funktion wiederherzustellen. Bei der Führung werden die Methoden und Materialien sowie die Herausforderungen der Restaurierung anhand von aktuellen Arbeitsbeispielen anschaulich erläutert.&lt;/p&gt;
DTSTART:20130507T170000
DTEND:20130507T183000
LOCATION:Atelier für Restaurierung, Frankfurter Ring 247, Eingang Ost, 1. Stock
ORGANIZER:MVHS München Mitte   
END:VEVENT
END:VCALENDAR