BEGIN:VCALENDAR
VERSION:2.0
PRODID:-//Stadtgeschichte München//DE
CALSCALE:GREGORIAN
BEGIN:VEVENT
UID:4003@stadtgeschichte-muenchen.de
SUMMARY:Künstlersonntag in den DomagkAteliers
DESCRIPTION:&lt;p&gt; Auf dem Gelände der ehemaligen Funkkaserne an der Domagkstraße hat sich eine â€žKünstlerkolonie&quot; gebildet, die &amp;nbsp;europaweit einmalig ist. An diesem Sonntag öffnen Maler, Bildhauer, Fotografen, Performancekünstler und Musiker ihre Ateliers. Bei der Erkundungstour durch Münchens größte Produktionsstätte zeitgenössischer Kunst mit über 100 Ateliers führt ein/e Kunsthistoriker/in durch ausgewählte Ateliers.&lt;/p&gt;
DTSTART:20130616T160000
DTEND:20130616T180000
LOCATION:DomagkAteliers, Domagkstr. 33, Haupteingang, Halle 50
ORGANIZER:MVHS München Mitte   
END:VEVENT
END:VCALENDAR