BEGIN:VCALENDAR
VERSION:2.0
PRODID:-//Stadtgeschichte München//DE
CALSCALE:GREGORIAN
BEGIN:VEVENT
UID:4022@stadtgeschichte-muenchen.de
SUMMARY:„Grauslig-greißlichen Gâ€™schichtenâ€ â€“ Tour
DESCRIPTION: Eine Tour, die euch noch mehr über die grauslig-greißlichen Ecken von München verrät! Ihr werdet lernen, finstere Zeichen richtig zu deuten; werdet erfahren, was es braucht, um dem Leibhaftigen einen ordentlichen Schrecken zu versetzen; und wer dann noch die Nerven hat, der wird auch noch mit dem schaurigen Handwerk des Henkers vertraut gemacht. Wollt ihr euch noch immer gruseln? Dann kommtâ€™s zur â€œGrauslig-greißlichen Gâ€™schichtenâ€ â€“ Tour. Altersempfehlung: ab 8 Jahren. Treffpunkt: Frauenplatz 12: Frauenkirche - ;am Hauptportal
DTSTART:20130405T130000
DTEND:20130405T000000
LOCATION:Frauenplatz 12: Frauenkirche  -  am Hauptportal
ORGANIZER:Die Stadtdetektive  - Stadtführungen für Kinder und Erwachsene
END:VEVENT
END:VCALENDAR