BEGIN:VCALENDAR
VERSION:2.0
PRODID:-//Stadtgeschichte München//DE
CALSCALE:GREGORIAN
BEGIN:VEVENT
UID:4023@stadtgeschichte-muenchen.de
SUMMARY:„Prinzessin auf der Erbse?â€ â€“ Tour
DESCRIPTION: Habt ihr schon einmal etwas von der unglücklichen Isabeau de BaviÃ©re gehört? Kennt ihr die liebliche Caroline? Und wisst ihr welche Schätze Maria Amalia in München zurückgelassen hat? Nein? Dann begleitet mich auf der Suche nach diesen Prinzessinnen, die hier ihre Spuren hinterlassen haben und überzeugt euch selbst, dass das Leben einer waschechten Prinzessin alles andere als ein â€œZuckerschleckenâ€ war! Altersempfehlung: ab 5 Jahren.03.05.2013
DTSTART:20130503T150000
DTEND:20130503T000000
LOCATION:Marienplatz
ORGANIZER:Die Stadtdetektive  - Stadtführungen für Kinder und Erwachsene
END:VEVENT
END:VCALENDAR