BEGIN:VCALENDAR
VERSION:2.0
PRODID:-//Stadtgeschichte München//DE
CALSCALE:GREGORIAN
BEGIN:VEVENT
UID:4024@stadtgeschichte-muenchen.de
SUMMARY:„Gut gebrüllt, Löwe!â€ â€“ Tour
DESCRIPTION: Von Heinrich dem Löwen und anderen spannenden Persönlichkeiten der Münchner Stadtgeschichte! Ihr meint, Stadtgeschichte sei langweilig? Ganz und gar nicht! Ihr werdet von Brandstiftern, Drachen und Teufeln hören, die Geheimnisse mittelalterlicher Bauten entschlüsseln und mit uns zusammen eintauchen in die mittelalterliche Welt der Ritter, Herzöge und Baumeister. Stadtgeschichte als Abenteuerreise! Altersempfehlung: ab 5 Jahren.
DTSTART:20130522T110000
DTEND:20130522T000000
LOCATION:Marienplatz
ORGANIZER:Die Stadtdetektive  - Stadtführungen für Kinder und Erwachsene
END:VEVENT
END:VCALENDAR