BEGIN:VCALENDAR
VERSION:2.0
PRODID:-//Stadtgeschichte München//DE
CALSCALE:GREGORIAN
BEGIN:VEVENT
UID:4040@stadtgeschichte-muenchen.de
SUMMARY:„Loks, Leder und Loden
DESCRIPTION:Das â€žKünstler-Viertel\" Schwabing verdankt sein Wachstum im 19. Jahrhundert der Industrialisierung. Bei der Eingemeindung 1890 und bis zur Weltwirtschaftskrise 1929 war es ein Industriearbeiterviertel. Im Jahr 1837 entstand hier die erste bayerische Lokomotivenfabrik durch Ritter von Maffei mit englischen Technikern als â€žGastarbeiter\". Eine Generation danach erbaute die Firma Frey 1870 ihre Lodenfabrik am Schwabinger Bach, den â€žGeburtsort\" des Lodenmantels. Und wenig später entstand am Nymphenburg-Biedersteiner- Kanal die große Lederfabrik der Familie Flesselberger. Die Führung folgt den Spuren dieser Entwicklung. Dabei wird auch das sonst nicht zugängliche Tivoli-Wasserkraftwerk besichtigt.
DTSTART:20130615T150000
DTEND:20130615T170000
LOCATION:Gaststätte Hirschau, Gyßlingstr. 15
ORGANIZER:MVHS München Nord
END:VEVENT
END:VCALENDAR