BEGIN:VCALENDAR
VERSION:2.0
PRODID:-//Stadtgeschichte München//DE
CALSCALE:GREGORIAN
BEGIN:VEVENT
UID:4042@stadtgeschichte-muenchen.de
SUMMARY:Der Luitpoldpark im Spannungsfeld
DESCRIPTION:&lt;p&gt;Der erste Volkspark im Münchner Norden, im März 1911 zu Ehren des Prinzregenten Luitpold eingeweiht, wurde wegen Wirtschaftskrise und zwei Weltkriegen nie vollendet. Heute ist er ein beliebtes Gartendenkmal und als direkter Nachbar von Olympia- und Petuelpark ein wichtiger Bestandteil des Parknetzes im Münchner Norden. Auf unserem Spaziergang erkunden wir als Auftakt den Bayernplatz, die herrliche Lindenterrasse, die große Achse, das Bamberger Haus und den â€žSchwabinger Schuttberg&quot;. Wir erfahren Wissenswertes zur Geschichte des Parks und lernen so den â€žUnvollendeten&quot; näher kennen.&lt;br /&gt; Im Rahmen des Kulturwochenendes Schwabing-West.&lt;/p&gt; 
DTSTART:20130505T150000
DTEND:20130505T163000
LOCATION: Karl-Theodor-Str. vor dem Treppenaufgang zum Obelisken (gegenüber Bayernplatz) 
ORGANIZER:MVHS München Nord
END:VEVENT
END:VCALENDAR