BEGIN:VCALENDAR
VERSION:2.0
PRODID:-//Stadtgeschichte München//DE
CALSCALE:GREGORIAN
BEGIN:VEVENT
UID:4044@stadtgeschichte-muenchen.de
SUMMARY:Stadtrundgang „Sinti und Roma in München â€“ auf den Spuren einer Minderheit
DESCRIPTION:Stadtrundgang â€žSinti und Roma in München â€“ auf den Spuren einer Minderheitâ€œ Treffpunkt Spielzeugmuseum, 15 Uhr mit Dr. Eva Strauß, veranstaltet von Stattreisen München e.V. und dem NS-Dokumentationszentrum München
DTSTART:20130308T150000
DTEND:20130308T000000
LOCATION:Spielzeugmuseum
ORGANIZER:STATTreisen München e.V.
END:VEVENT
END:VCALENDAR