BEGIN:VCALENDAR
VERSION:2.0
PRODID:-//Stadtgeschichte München//DE
CALSCALE:GREGORIAN
BEGIN:VEVENT
UID:4106@stadtgeschichte-muenchen.de
SUMMARY:100 Jahre Berg am Laim
DESCRIPTION:1913 wurde Berg am Laim nach München eingemeindet. Wie verändert sich ein selbstständiges Dorf durch die Anbindung an eine Großstadt? Am Beispiel der Baumkirchner- und der Josephsburgstraße, der zwei alten Dorfstraßen, werden diese Entwicklungen verfolgt. Stationen und Themen dieser Führung sind der ehemalige Rangierbahnhof und die Eisenbahnersiedlungen, St. Stephan und der Voglhof, der Behrpark und die Straßenbahn, die noch von der selbstständigen Gemeinde errichteten Schulen, die große Kreuzung und das Aumüllerhaus, die von den Englischen Fräulein errichteten Schulgebäude, das Denkmal zur Erinnerung an die sog. â€žHeimanlage für Juden\", der soziale Wohnungsbau und die â€žMaikäfersiedlung\'\'.
DTSTART:20130622T160000
DTEND:20130622T180000
LOCATION:vor dem Voglhof â€¢ Baumkirchner Str. 53
ORGANIZER:
END:VEVENT
END:VCALENDAR