BEGIN:VCALENDAR
VERSION:2.0
PRODID:-//Stadtgeschichte München//DE
CALSCALE:GREGORIAN
BEGIN:VEVENT
UID:4107@stadtgeschichte-muenchen.de
SUMMARY:100 Jahre Eingemeindung Oberföhring
DESCRIPTION:Die Veranstaltung will bereits im Vorfeld der Festaktivitäten im August den Blick auf Oberföhring richten, das - wie Berg am Laim - in diesem Jahr den 100. Jahrestag seiner Eingemeindung nach München feiert. Mit Bogenhausen, das bereits 1892 eingemeindet wurde, bilden Oberföhring, Daglfing, Denning, Englschalking, Johanneskirchen, Zamdorf und Steinhausen den Stadtbezirk 13. Einem Einführungsvortrag in der Stadtbibliothek Bogenhausen folgt eine kurze Straßenbahnfahrt Richtung St. Emmeram bis Taimerhofstraße und ein Spaziergang - vorbei an alten Ziegeleigebäuden - durch den Bürgerpark bis zum alten Ortskern Oberföhring mit der Pfarrkirche St. Lorenz. Im Rahmen von aperitif - Infoprogramm der MVHS und der Münchner Stadtbibliothek
DTSTART:20130508T150000
DTEND:20130508T170000
LOCATION:Stadtbibliothek Bogenhausen â€¢ Rosenkavalierplatz 16
ORGANIZER:MVHS München Mitte   
END:VEVENT
END:VCALENDAR