BEGIN:VCALENDAR
VERSION:2.0
PRODID:-//Stadtgeschichte München//DE
CALSCALE:GREGORIAN
BEGIN:VEVENT
UID:4109@stadtgeschichte-muenchen.de
SUMMARY:Ein Stadtrat aus dem Münchner Osten stellt das Münchner Rathaus vor
DESCRIPTION:Das neugotische Münchner Rathaus ist ein Touristenmagnet. Aber wer kennt sich als Einheimischer wirklich im Inneren aus? Lassen Sie sich von einem Stadtrat aus dem Münchner Osten in die Baugeschichte des Gebäudes ebenso einweihen wie in die konkrete Arbeit des 80-köpfigen Stadtrates. Die Sacharbeit des Stadtrats wird vielfach in seinen Ausschüssen geleistet. Dort kommen die konkreten Themen und Fragen auch einzelner Stadtviertel zur Sprache. Nach einem kurzem Besuch einer Sitzung (geplant: Kultur-/Kommunalausschuss), wird erläutert, welche Entscheidungen für östliche Stadtviertel derzeit anstehen, wie die Entscheidungsprozesse verlaufen und wie Interessen der Bürger/innen in Stadtratsbeschlüsse Eingang finden.
DTSTART:20130620T093000
DTEND:20130620T113000
LOCATION: Rathaus, an der Pforte (rechts vom Ratskeller) â€¢ Marienplatz 8
ORGANIZER:
END:VEVENT
END:VCALENDAR