BEGIN:VCALENDAR
VERSION:2.0
PRODID:-//Stadtgeschichte München//DE
CALSCALE:GREGORIAN
BEGIN:VEVENT
UID:411@stadtgeschichte-muenchen.de
SUMMARY:Das Kanalsystem von Schloss Nymphenburg
DESCRIPTION:
DTSTART:20110531T150000
DTEND:20110531T000000
LOCATION:Museumsladen Schloss Nymphenburg
ORGANIZER:Bayerische Schlösserverwaltung
END:VEVENT
END:VCALENDAR