BEGIN:VCALENDAR
VERSION:2.0
PRODID:-//Stadtgeschichte München//DE
CALSCALE:GREGORIAN
BEGIN:VEVENT
UID:4165@stadtgeschichte-muenchen.de
SUMMARY:Neuperlach
DESCRIPTION:Noch Mitte der 60er Jahre reichten die Felder des ehemaligen Bauerndorfs Perlach bis zum Truderinger Wald. Auf diesen Fluren entstand über einen Zeitraum von 25 Jahren der Stadtteil Neuperlach. Auf der Führung erleben wir zu Fuß und mit dem Linienbus die architektonische Vielfalt der einzelnen Bauabschnitte in einem modernen Stadtviertel und erfahren viel über frühere Planungen und tatsächlich verwirklichte Baukonzepte. Dabei achten wir auch auf die vielen Hinweise, auf die Verbindung des modernen Stadtviertels mit seiner Geschichte und wir werden feststellen, dass Neuperlach seinem oftmals negativ wahrgenommenem Image als â€žTrabantenstadt\" zum Trotz ein lebendiges und attraktives Stadtviertel ist. Die Route führt über die Quiddestraße, Life Park Shop, Neuperlach-Zentrum, das PEP und Perlach-Süd. Bitte für die Führung eine MVV-Karte mitbringen.
DTSTART:20130711T180000
DTEND:20130711T200000
LOCATION:Dorfbrunnen am Pfanzeltplatz
ORGANIZER:
END:VEVENT
END:VCALENDAR