BEGIN:VCALENDAR
VERSION:2.0
PRODID:-//Stadtgeschichte München//DE
CALSCALE:GREGORIAN
BEGIN:VEVENT
UID:4179@stadtgeschichte-muenchen.de
SUMMARY:„Im Gala-Rock des heiteren Verschwenders ...\"
DESCRIPTION:Die Straßennamen im nördlichen Herzogpark erinnern an bekannte Lyriker des Barock wie Opitz und Fleming oder Schriftsteller der folgenden Jahrhunderte: Geliert, Bürger, Stifter, Gustav Freytag, Haushofer, Dehmel... Heute sind nicht mehr alle bekannt, gefragt oder â€žzeitgemäß\". Aber vielleicht gibt es bei diesem Spaziergang ja einiges neu zu entdecken. Hier stand die alte Hanser-Villa (heute â€žSchule für baierische Musik, Wastl-Fanderl-Schule\"). Sie war Zuflucht für manchen Dichter. Nicht weit davon hat Erich Kästner sein Alterswerk geschrieben und seinen Lebensabend verbracht. Und mit â€žHerr und Hund\" hat Thomas Mann dieser zur â€žKrüppelhaftigkeit geneigten Natur\" zwischen Isar und Brunnbach ein literarisches Denkmal gesetzt.
DTSTART:20130504T150000
DTEND:20130504T170000
LOCATION:Mauerkirchner Str./Ecke Redwitzstr., unter der John-F.-Kennedy-Brücke (Isar-Ring)
ORGANIZER:
END:VEVENT
END:VCALENDAR