BEGIN:VCALENDAR
VERSION:2.0
PRODID:-//Stadtgeschichte München//DE
CALSCALE:GREGORIAN
BEGIN:VEVENT
UID:4186@stadtgeschichte-muenchen.de
SUMMARY:Das Prinzregententheater
DESCRIPTION:&lt;p&gt;Das über hundertjährige Prinzregententheater mit seiner modernen Theatertechnik ist neben dem Bayreuther Festspielhaus der einzige Theaterbau, der die Theateridee Richard Wagners und die damit verbundene Architektur aufgreift. Heute ist es Sitz der Bayerischen Theaterakademie, einer Ausbildungsstätte für neun Theaterberufe. Die Besucher erhalten Einblick in den amphitheatralischen Zuschauerraum, die Bühne und - je nach Möglichkeit - in einen Teil der Werkstätten, in das Akademietheater und einige Betriebsräume. Der Weg führt zum Teil über enge Treppen und durch schmale Gänge und ist für Personen mit Gehbehinderung nicht geeignet.&lt;/p&gt; 
DTSTART:20130419T153000
DTEND:20130419T170000
LOCATION:Prinzregententheater, im Foyer
ORGANIZER:MVHS München Ost
END:VEVENT
END:VCALENDAR