BEGIN:VCALENDAR
VERSION:2.0
PRODID:-//Stadtgeschichte München//DE
CALSCALE:GREGORIAN
BEGIN:VEVENT
UID:4199@stadtgeschichte-muenchen.de
SUMMARY:Tolle Kleider - schöne Frauen
DESCRIPTION:
DTSTART:20130423T163000
DTEND:20130423T000000
LOCATION:Haupteingang Schloss Nymphenburg
ORGANIZER:Bayerische Schlösserverwaltung
END:VEVENT
END:VCALENDAR