BEGIN:VCALENDAR
VERSION:2.0
PRODID:-//Stadtgeschichte München//DE
CALSCALE:GREGORIAN
BEGIN:VEVENT
UID:4206@stadtgeschichte-muenchen.de
SUMMARY:Die Allerheiligen-Hofkirche
DESCRIPTION:
DTSTART:20130505T133000
DTEND:20130505T000000
LOCATION:Kasse Residenzmuseum
ORGANIZER:Bayerische Schlösserverwaltung
END:VEVENT
END:VCALENDAR