BEGIN:VCALENDAR
VERSION:2.0
PRODID:-//Stadtgeschichte München//DE
CALSCALE:GREGORIAN
BEGIN:VEVENT
UID:4241@stadtgeschichte-muenchen.de
SUMMARY:Friedrich Ludwig von Sckell und die Gestaltung des Englischen Gartens
DESCRIPTION:
DTSTART:20130615T000000
DTEND:20130615T000000
LOCATION:Aufgang Chinesischer Turm
ORGANIZER:Bayerische Schlösserverwaltung
END:VEVENT
END:VCALENDAR