BEGIN:VCALENDAR
VERSION:2.0
PRODID:-//Stadtgeschichte München//DE
CALSCALE:GREGORIAN
BEGIN:VEVENT
UID:4245@stadtgeschichte-muenchen.de
SUMMARY:Die Schlosskapelle Blutenburg Zur Geschichte und Ausstattung
DESCRIPTION:
DTSTART:20130618T153000
DTEND:20130618T000000
LOCATION:Eingang Kapelle Blutenburg (Obermenzing)
ORGANIZER:Bayerische Schlösserverwaltung
END:VEVENT
END:VCALENDAR