BEGIN:VCALENDAR
VERSION:2.0
PRODID:-//Stadtgeschichte München//DE
CALSCALE:GREGORIAN
BEGIN:VEVENT
UID:4252@stadtgeschichte-muenchen.de
SUMMARY:Das Cuvilliis-Theater - Raumkunst des Rokoko
DESCRIPTION:
DTSTART:20130630T000011
DTEND:20130630T000000
LOCATION:Kasse Cuvilaes-Theater
ORGANIZER:Bayerische Schlösserverwaltung
END:VEVENT
END:VCALENDAR