BEGIN:VCALENDAR
VERSION:2.0
PRODID:-//Stadtgeschichte München//DE
CALSCALE:GREGORIAN
BEGIN:VEVENT
UID:4265@stadtgeschichte-muenchen.de
SUMMARY:Alte Wirtshäuser von Untergiesing - Was ist aus ihnen geworden?
DESCRIPTION:Allein in der Kleinhaussiedlung â€žBirkenau\" mit ihren knapp 100 Häusern benennt der Giesinger Bezirksinspektor Anton Gaiser im Jahr 1883 elf Gastwirtschaften namentlich mit Adresse, Eigentums- und Pachtverhältnis. Viele von ihnen waren Eckkneipen, â€žEinraumgaststätten\" die den â€žKleinhäuslern\" fehlenden Wohnraum ersetzten. Manche waren recht kurzlebig, etliche â€žÜberlebende\" gibt es heute noch. In der â€žLohe\" existierten sieben Wirtschaften, allen voran - der â€žLoherwirt\", einst politisches und gesellschaftliches Zentrum der Giesinger unterhalb des Bergs. Die einst â€žnobligen\" Cafe-Restaurants an der Pilgersheimer Straße gibt es nicht mehr. Das â€žFiakerheim\"- Gebäude ist erst vorletztes Jahr abgerissen worden. Aber auch ohne den â€žGiesinger Bergbräu\" wird unten in Giesing wieder Bier gebraut.
DTSTART:20130615T110000
DTEND:20130615T130000
LOCATION: vor dem Alten- und Service-Zentrum Untergiesing -  Kolumbusstr. 33
ORGANIZER:
END:VEVENT
END:VCALENDAR