BEGIN:VCALENDAR
VERSION:2.0
PRODID:-//Stadtgeschichte München//DE
CALSCALE:GREGORIAN
BEGIN:VEVENT
UID:4270@stadtgeschichte-muenchen.de
SUMMARY:Ein Rosengarten
DESCRIPTION:Groß ist es nicht, das Rosarium in der Baumschule Bischweiler nahe der Isar, aber es bietet ein Rückzugsgebiet für gestresste Stadtbewohner. Zu dieser Zeit steht der Rosengarten in voller Blüte. Hier befinden sich auch die Themengärten wie der Gift-, Duft- und Tastgarten: pelziges Edelweiß, samtweiche Flockenblume, duftender Mönchspfeffer oder Zitronengeranie sind hier zu finden. Warum man vom Bärenklau besser die Finger lässt, ist auf dieser Führung auch zu erfahren. Wissenswerte geschichtliche Hintergründe über die Anlage und Informationen zur Erweiterungsfläche östlich des Rosengartens runden den Spaziergang ab.
DTSTART:20130718T160000
DTEND:20130718T173000
LOCATION:Sachsenstr. 2 (südlich des Schyrenbades) beim Weg zum Eingang in den Rosengarten
ORGANIZER:
END:VEVENT
END:VCALENDAR