BEGIN:VCALENDAR
VERSION:2.0
PRODID:-//Stadtgeschichte München//DE
CALSCALE:GREGORIAN
BEGIN:VEVENT
UID:4276@stadtgeschichte-muenchen.de
SUMMARY:Raditour über das Isarhochufer zur Klinik Menterschwaige
DESCRIPTION:&lt;p&gt;Die Klinik Menterschwaige liegt in malerischer Lage im Perlacher Forst. Dort werden seit 1979 Patienten mit allen psychiatrischen und psychosomatischen Störungen behandelt. Mittelpunkt der Tätigkeit der Patienten in der Klinik ist die Planung und Realisation von Projekten mit künstlerischem und handwerklichem Charakter. Im Garten der Klinik sind Beispiele künstlerischer Arbeiten zu sehen, die in Gruppenarbeit entstanden sind. Mit dem Radi geht es von der Grünwalder Burg aus am Hochufer entlang zur Klinik Menterschwaige. Die Tour führt nach der Besichtigung wieder zurück zur Burg Grünwald.&lt;/p&gt; 
DTSTART:20130615T140000
DTEND:20130615T170000
LOCATION:Burg Grünwald, Zeillerstr. 3
ORGANIZER:
END:VEVENT
END:VCALENDAR