BEGIN:VCALENDAR
VERSION:2.0
PRODID:-//Stadtgeschichte München//DE
CALSCALE:GREGORIAN
BEGIN:VEVENT
UID:4278@stadtgeschichte-muenchen.de
SUMMARY:Wenn\'s brennt - Notruf 112!
DESCRIPTION:Besuch bei der Freiwilligen Feuerwehr Grünwald Wenn die Flammen züngeln, ist es klar: Die Feuerwehr rückt aus und rettet, was noch zu retten ist. Oft jedoch ist den Bürgern unbekannt, wie umfangreich das Einsatzgebiet der Feuerwehr ist und wie viel Know-how und Ausrüstung notwendig sind. In Sekundenbruchteilen ist zu entscheiden, wie ein Einsatz bestmöglich durchgeführt wird. Ein Besuch im Grünwalder Feuerwehrhaus gibt Einblick in die vielen Aufgabenbereiche und technischen Ausrüstungsgegenstände. Die Führung ist für Erwachsene konzipiert, Kinder können bei Interesse aber gerne teilnehmen.
DTSTART:20130427T093000
DTEND:20130427T113000
LOCATION:Freiwillige Feuerwehr Grünwald  - Hubert-Hopf-Str. 2 
ORGANIZER:
END:VEVENT
END:VCALENDAR