BEGIN:VCALENDAR
VERSION:2.0
PRODID:-//Stadtgeschichte München//DE
CALSCALE:GREGORIAN
BEGIN:VEVENT
UID:4292@stadtgeschichte-muenchen.de
SUMMARY:Wanderung zur historischen Römerschanze
DESCRIPTION:Vom Marktplatz aus geht es hinunter ins Tal, wobei an ehemalige Gaststätten wie die Tiroler Alm, das Mirzenhäusl und den Brunnwart erinnert wird. Durch die urwaldartige Isaraue führt der Weg südwärts zur Trasse der ehemaligen Römerstraße. Nach einem Aufstieg zum Hochufer in Richtung Norden wird bei der Römerschanze eine kurze Rast gemacht. Am Ende des Rückwegs am Hochufer entlang nach Grünwald schließlich gibt es eine Einkehrmöglichkeit in der Gaststätte Eierwiese. Festes Schuhwerk, etwas Kondition mitbringen. 
DTSTART:20130419T130000
DTEND:20130419T170000
LOCATION:Südwestlicher Marktplatz, bei der Bäckerei Hauer 
ORGANIZER:
END:VEVENT
END:VCALENDAR