BEGIN:VCALENDAR
VERSION:2.0
PRODID:-//Stadtgeschichte München//DE
CALSCALE:GREGORIAN
BEGIN:VEVENT
UID:4306@stadtgeschichte-muenchen.de
SUMMARY:Führung durch den Bayerischen Landtag
DESCRIPTION:Zunächst begrüßt Sie Frau Claudia Stamm, Landtagsabgeordnete des Bündnis 90/Die Grünen für den Münchner Süden, und gibt einen Überblick ihrer Arbeit. Im Anschluss besteht die Gelegenheit zu Fragen und Gesprächen. Ein Videofilm über die Aufgaben und Arbeitsweise des Bayerischen Landtags und die Teilnahme an einer Plenarsitzung runden die Führung zum Schluss ab.
DTSTART:20130424T150000
DTEND:20130424T190000
LOCATION:Maximilianeum, Westpforte (Vorderseite des Gebäudes)
ORGANIZER:MVHS München Süd
END:VEVENT
END:VCALENDAR