BEGIN:VCALENDAR
VERSION:2.0
PRODID:-//Stadtgeschichte München//DE
CALSCALE:GREGORIAN
BEGIN:VEVENT
UID:4307@stadtgeschichte-muenchen.de
SUMMARY:Kommunalpolitik in München - Führung durch das Rathaus
DESCRIPTION:Kommunalpolitik gemacht wird: Christian Amlong, Mitglied des Stadtrats für die SPD und u.a. Korreferent des Personal- und Organisationsreferates und Mitglied im Ausschuss für Stadtplanung und Bauordnung, Verwaltung und Personal, berichtet über seine Arbeit und diskutiert über kommunalpolitisch aktuelle Themen. Danach können Sie einen Blick in den großen Sitzungssaal werfen, in dem die Vollversammlungen des Stadtrats stattfinden. Im angrenzenden kleinen Sitzungssaal kann man noch einen Eindruck von der originalen Möblierung des Rathauses, wie sie vom Architekten Georg von Hauberrisser entworfen wurde, bekommen.
DTSTART:20130508T140000
DTEND:20130508T153000
LOCATION: Rathaus, an der Pforte (Eingang links neben dem Fischbrunnen)
ORGANIZER:MVHS München Süd
END:VEVENT
END:VCALENDAR