BEGIN:VCALENDAR
VERSION:2.0
PRODID:-//Stadtgeschichte München//DE
CALSCALE:GREGORIAN
BEGIN:VEVENT
UID:4312@stadtgeschichte-muenchen.de
SUMMARY:100 Jahre Neu-Sankt-Margaret
DESCRIPTION:1913 wurde die neue St. Margaret-Kirche nach den Plänen von Michael Dosch und Franz Xaver Boemmel geweiht. Die Entwürfe für den monumentalen Bau mussten mehrfach aus Kostengründen reduziert werden. Wir betrachten gemeinsam die wuchtige, eklektizistische Architektur, die Motive der Spätrenaissance wie aus St. Michael ebenso wie des Barock (Theatinerkirche) und des Klassizismus aufnimmt. Wichtige Teile der Ausstattung, die erst 1938 abgeschlossen war, werden vorgestellt. Neu-Sankt-Margaret lohnt zu ihrem 100-jährigen Jubiläum eine intensive Auseinandersetzung!
DTSTART:20130622T140000
DTEND:20130622T153000
LOCATION:Margaretenplatz 1, unter der Orgelempore
ORGANIZER:
END:VEVENT
END:VCALENDAR