BEGIN:VCALENDAR
VERSION:2.0
PRODID:-//Stadtgeschichte München//DE
CALSCALE:GREGORIAN
BEGIN:VEVENT
UID:4342@stadtgeschichte-muenchen.de
SUMMARY:Versorgung für die Großstadt: die Markthallen München
DESCRIPTION:&lt;p&gt;Im Dezember 2005 hat der Stadtrat die Fusion der Eigenbetriebe Großmarkthalle und Schlachthof beschlossen, die zum 1.1.2007 in Kraft getreten ist. Die â€žMarkthallen München&quot; sind -wie schon bisher - auch für den Betrieb der vier ständigen Lebensmittelmärkte und der städtischen Wochenmärkte zuständig. In der 1912 errichteten Großmarkthalle schlagen auf einer Fläche von 310000 Quadratmetern 270 Import- und Großhandelsfirmen 140 Warengattungen aus 83 Ländern im Wert von über 750 Millionen Euro um. Der Schlachthof ist der größte seiner Art in Mitteleuropa. Die Führung durch beide Betriebsteile informiert über die Entwicklung des Eigenbetriebs und bietet die Gelegenheit zu einem Blick hinter die Kulissen.&lt;/p&gt; 
DTSTART:20130417T083000
DTEND:20130417T103000
LOCATION:Großmarkthalle, Westtor (Thalkirchner Str.)
ORGANIZER:MVHS München Süd
END:VEVENT
END:VCALENDAR