BEGIN:VCALENDAR
VERSION:2.0
PRODID:-//Stadtgeschichte München//DE
CALSCALE:GREGORIAN
BEGIN:VEVENT
UID:4343@stadtgeschichte-muenchen.de
SUMMARY:Moderne Energiewirtschaft
DESCRIPTION:Im Heizkraftwerk Süd hat ein â€žGenerationenwechsel\" stattgefunden -seit 1997 ist die Müllverbrennungsanlage stillgelegt und inzwischen rückgebaut worden. Auf der frei gewordenen Fläche ist ein neues hoch effizientes und aufgrund der sehr hohen Brennstoffausnutzung auch umweltfreundliches Heizkraftwerk entstanden. Im Verbund mit den anderen Energieerzeugungsanlagen der Stadtwerke hilft die Anlage so, die gesteckten Klimaziele aktiv anzustreben. Bei einem Rundgang bekommen Sie Einblick in die bisherige und zukünftige Energiegewinnung und werfen einen Blick in die bestehenden Kraftwerksanlagen. Außerdem erfahren Sie Interessantes über die historische Entwicklung dieses Heizkraftwerkstandortes. Für die Führung ist festes Schuhwerk erforderlich. Sie sollten außerdem schwindelfrei sein.
DTSTART:20130419T140000
DTEND:20130419T163000
LOCATION:Heizkraftwerk Süd â€¢ Isartal-str. (Eingang: Schäftlarnstr. 15) 
ORGANIZER:MVHS München Mitte   
END:VEVENT
END:VCALENDAR