BEGIN:VCALENDAR
VERSION:2.0
PRODID:-//Stadtgeschichte München//DE
CALSCALE:GREGORIAN
BEGIN:VEVENT
UID:4344@stadtgeschichte-muenchen.de
SUMMARY:Für Leib und Seele
DESCRIPTION:Der Gotzinger Platz, benannt nach den Bauern aus Gotzing, die 1705 am Aufstand gegen die Österreicher teilnahmen, ist ein kleines Zentrum in Untersendling. Dazu gehört St. Korbinlan, die neubarocke Kirche, die auf Anregung von Kardinal Faulhaber in den zwanziger Jahren des letzten Jahrhunderts zu Ehren des Diözesanpatrons errichtet wurde. In gemäßigten Jugendstilformen entwarf Hans Grässel die benachbarten Schulen. Interessante Architektur stellen u.a. die Gaststätte â€žGroßmarkthalle\" und das Postamt im Art-deco-Stil dar. Wir beschließen unseren Rundgang bei Bussone, der ein Geheimtipp für Freunde italienischer Süßigkeiten ist.
DTSTART:20130727T143000
DTEND:20130727T160000
LOCATION:St. Korbinian, Hauptportal â€¢ Gotzinger Platz 
ORGANIZER:MVHS München Süd
END:VEVENT
END:VCALENDAR