BEGIN:VCALENDAR
VERSION:2.0
PRODID:-//Stadtgeschichte München//DE
CALSCALE:GREGORIAN
BEGIN:VEVENT
UID:4412@stadtgeschichte-muenchen.de
SUMMARY:Die neue Schießstätte - der älteste Verein Münchens
DESCRIPTION:In Sendling steht das Mekka der Sportschützen aller Welt: die neue Schießstätte des ältesten Münchner Vereines, der â€žKöniglich privilegierten Hauptschützengesellschaft von 1406 (HSG)\". Wir werden die modernen Schießanlagen besichtigen und einiges über die Geschichte dieses Münchner Traditionsvereines erfahren. Im Saal sind kostbare Schießscheiben sowie die weltberühmte â€žSchützenliesl\", ein Monumentalgemälde von Friedrich August von Kaulbach, zu bewundern.
DTSTART:20130425T180000
DTEND:20130425T193000
LOCATION:Neue Schießstätte â€¢ Zielstattstr. 6
ORGANIZER:
END:VEVENT
END:VCALENDAR