BEGIN:VCALENDAR
VERSION:2.0
PRODID:-//Stadtgeschichte München//DE
CALSCALE:GREGORIAN
BEGIN:VEVENT
UID:4419@stadtgeschichte-muenchen.de
SUMMARY:75 Jahre Eingemeindung Hadern-Ausstellungsführung
DESCRIPTION:75 Jahre Eingemeindung Hadern-Ausstellungsführung Vor 75 Jahren wurden am 1. April 1938 drei bis dahin eigenständige Gemeinden der Stadt München einverleibt, darunter auch Hadern. Die Ausstellung zeigt in Dokumenten, Bildern und Gegenständen die Zeit von ca. 1930 bis 1950 und versucht, geschichtliche Zusammenhänge von verschiedenen Seiten zu beleuchten. Im Zusammenarbeit mit dem Geschichtsverein Hadern e.V. CS 3499 - Führung Hadern Inge Wiederhut â–  Treffpunkt: Spitzweghof/Stadel, Großhaderner Str. 54a â–  do 17.00 bis 18.30 Uhr â€¢ 25.4.2013 â–  € 5 - â€¢ Anmeldung erforderlich
DTSTART:20130425T170000
DTEND:20130425T183000
LOCATION:Spitzweghof/Stadel, Großhaderner Str. 54a
ORGANIZER:
END:VEVENT
END:VCALENDAR