BEGIN:VCALENDAR
VERSION:2.0
PRODID:-//Stadtgeschichte München//DE
CALSCALE:GREGORIAN
BEGIN:VEVENT
UID:4420@stadtgeschichte-muenchen.de
SUMMARY:Arbeitstreffen des Geschichtsvereins Hadern e.V.
DESCRIPTION:Im Hinblick auf 75 Jahre Eingemeindung nach München 2013 sammelt der Geschichtsverein Hadern möglichst viele und umfassende Informationen, Dokumente, Gegenstände, Geschichten, Berichte usw. für die Zeit von ca. 1930 bis etwa 1950. Im April 2013 findet eine größere Ausstellung statt, die die Zeitgeschichte Hadems und des neuen Münchner Stadtteils beleuchtet. Die Arbeitstreffen dienen zum weiteren Austausch und Vor- und Nachbereitung der Ausstellung. Der Geschichtsverein Hadern e.V. organisiert Veranstaltungen zur Geschichte des Stadtteils und zu aktuellen Themen. Er steht offen für interessierte Hadernerinnen und Haderner, für Vereinsmitglieder und Gäste.
DTSTART:20130703T190000
DTEND:20130703T203000
LOCATION:Geschichtsverein Hadern e.V. - Volkshochschule â€¢ Guardinistr. 90
ORGANIZER:MVHS München Süd
END:VEVENT
END:VCALENDAR