BEGIN:VCALENDAR
VERSION:2.0
PRODID:-//Stadtgeschichte München//DE
CALSCALE:GREGORIAN
BEGIN:VEVENT
UID:4426@stadtgeschichte-muenchen.de
SUMMARY:Die Türkisch-Islamische-Gemeinde zu München-Pasing e.V.
DESCRIPTION:In zentraler Lage an der Planegger Straße beherbergt das Moscheeund Kulturzentrum seit Mai 1999 eine muslimische Gemeinde. Hier sind Gebetsräume, ein Frauen- und Jugendzentrum, Versammlungsräume und Räume für das islamische Totenritual untergebracht. Ein kleines Geschäft und eine Teestube der Gemeinde befinden sich im Erdgeschoss. Unter der lichtdurchfluteten Dachkuppel liegt der kostbar mit Mosaikornamenten ausgestattete Gebetsraum. Vor der Führung erhalten Sie eine kurze Einführung in den Islam. Im Anschluss besteht die Möglichkeit zum Gespräch mit Partnern aus der Muslimgemeinde bei türkischem schwarzen Tee in der Teestube. Eine Veranstaltung im Rahmen des Stadtteiljubiläums â€ž1250 Jahre Pasing\"
DTSTART:20130515T190000
DTEND:20130515T210000
LOCATION:Türkisch-islamisches Kulturzentrum â€¢ Planegger Str. 18A 
ORGANIZER:MVHS München West
END:VEVENT
END:VCALENDAR