BEGIN:VCALENDAR
VERSION:2.0
PRODID:-//Stadtgeschichte München//DE
CALSCALE:GREGORIAN
BEGIN:VEVENT
UID:4431@stadtgeschichte-muenchen.de
SUMMARY:Freiham: Ein neuer Stadtteil entsteht
DESCRIPTION:Mit Freiham - am westlichen Münchner Stadtrand gelegen - entsteht ein völlig neuer Stadtteil. Das Gewerbegebiet im Süden nimmt bereits mehr und mehr bauliche Gestalt an. Und die ersten Bewohner von insgesamt 20000 geplanten â€žFreihamern\" sind bereits eingezogen. Wie sehen die nächsten Planungsschritte und Realisierungszeiträume aus? Welche Infrastruktur (Bildung, Soziales, Kultur, Naherholung, Verkehr, Gewerbe etc.) ist vorgesehen? Welche Lebensqualität wird der künftige Stadtteil bieten?
DTSTART:20130620T193000
DTEND:20130620T210000
LOCATION:Volkshochschule - Bäckerstr. 14 
ORGANIZER:MVHS München West
END:VEVENT
END:VCALENDAR