BEGIN:VCALENDAR
VERSION:2.0
PRODID:-//Stadtgeschichte München//DE
CALSCALE:GREGORIAN
BEGIN:VEVENT
UID:4432@stadtgeschichte-muenchen.de
SUMMARY:Im Zentrum von Pasing: Flaniermeile statt Verkehrsgewühl?
DESCRIPTION:Pasings Zentrum soll attraktiver werden. Im Rahmen des Großprojekts â€žZentrale Bahnflächen\" entstehen seit 2008 auf nicht mehr benötigten Betriebsflächen der Deutschen Bahn, z.B. dem Stückgutbahnhof an der Offenbachstraße, neue städtebauliche Nutzungen. Dabei geht es neben einem neuen Verkehrskonzept auch um neue Gewerbegebiete (wie die â€žPasing Arcaden\") und ein Wohnquartier für 1800 Bewohner. Im Rahmen des Rundgangs werden wir uns über das neue Zentrum Pasings informieren (Stand der Bauarbeiten und weitere Planungen). Dabei sollen auch Themen wie die Nordumgehung Pasing (NUP), die Erweiterung der â€žPasing Arcaden\" und die Bebauung des ehemaligen Weylgeländes erörtert werden. Die Veranstaltung findet bei jedem Wetter statt. Bitte ggf. wetterfeste Kleidung mitnehmen. Eine Veranstaltung im Rahmen des Stadtteiljubiläums â€ž1250 Jahre Pasing\"
DTSTART:20130427T150000
DTEND:20130427T170000
LOCATION:S-Bahnhof Pasing, Haupteingang an der Kaflerstr.
ORGANIZER:MVHS München West
END:VEVENT
END:VCALENDAR