BEGIN:VCALENDAR
VERSION:2.0
PRODID:-//Stadtgeschichte München//DE
CALSCALE:GREGORIAN
BEGIN:VEVENT
UID:4434@stadtgeschichte-muenchen.de
SUMMARY:Das Sand- und Kieswerk Riebel GmbH in Allach
DESCRIPTION:Im Allacher Werk wird Sand und Kies aus natürlichen Vorkommen im Nassabbau gewonnen und zu gebrauchsfähigem Material für die Bauindustrie weiterverarbeitet. Bei einer Führung haben Sie die Möglichkeit, einige Produktionsabläufe kennenzulernen: von der Kiesgewinnung unter Wasser über die Sortierung in die unterschiedlichen erforderlichen Steingrößen, die direkte Weiterverwertung des Kieses auf dem Firmengelände zu Transportbeton oder Asphalt bis zur Renaturierung der Abbaustätten bzw. der Anlage von Biotopen. Bitte festes Schuhwerk tragen.
DTSTART:20130625T093000
DTEND:20130625T113000
LOCATION: Kieswerk Einfahrtstor, Paul-Ehrlich-Weg 130
ORGANIZER:MVHS München West
END:VEVENT
END:VCALENDAR