BEGIN:VCALENDAR
VERSION:2.0
PRODID:-//Stadtgeschichte München//DE
CALSCALE:GREGORIAN
BEGIN:VEVENT
UID:4435@stadtgeschichte-muenchen.de
SUMMARY:Die Heilig-Kreuz-Kapelle auf dem Adelsberg im Moos bei Allach
DESCRIPTION:Kaum jemand im Münchner Westen hat je etwas von dieser Kapelle gehört oder gelesen, obwohl es dazu einige (wissenschaftliche) Publikationen gibt, die allerdings kaum illustriert sind. Der Vortrag mit Bildern will Sie ermuntern, zumindest den Standort der einstigen Kapelle und ein dort befindliches Bildstöckl an der Müllerstadelstraße zu erkunden. In der Nähe liegt der Lußsee, nicht weit von Obermenzing entfernt.
DTSTART:20130507T180000
DTEND:20130507T193000
LOCATION:Schulzentrum - Pfarrer-Grimm-Str. 1
ORGANIZER:MVHS München West
END:VEVENT
END:VCALENDAR