BEGIN:VCALENDAR
VERSION:2.0
PRODID:-//Stadtgeschichte München//DE
CALSCALE:GREGORIAN
BEGIN:VEVENT
UID:4438@stadtgeschichte-muenchen.de
SUMMARY:Steinway-Haus München
DESCRIPTION:Das renommierte Steinway-Haus München kann auf eine lange, erfolgreiche Geschichte zurückblicken. 1912 von Karl Lang gegründet, entwickelte sich das Familien-Unternehmen als â€žPiano-Lang\" schnell zum größten Klavierfachgeschäft Deutschlands. Im Jahre 2000 wird es von Steinway &amp; Sons übernommen und zu einem der mittlerweile vier Steinway-Häuser in Deutschland. Es präsentiert heute in edlem Ambiente die Marken der Steinway-Familie - darunter vor allem die legendären Fabrikate von â€žSteinway &amp; Sons\". Bei einem Vortrag und einer Führung durch das Steinway-Haus inkl. Werkstatt erhalten Sie Einblick in Geschichte und Konstruktion der weltberühmten Flügel.
DTSTART:20130328T140000
DTEND:20130328T153000
LOCATION:Steinway-Haus, Landsberger Str. 336
ORGANIZER:MVHS München West
END:VEVENT
END:VCALENDAR