BEGIN:VCALENDAR
VERSION:2.0
PRODID:-//Stadtgeschichte München//DE
CALSCALE:GREGORIAN
BEGIN:VEVENT
UID:4443@stadtgeschichte-muenchen.de
SUMMARY:Bäume und Barock im Löwental
DESCRIPTION:Der Nymphenburger Park ist eine einzigartige Synthese aus einem englischen Landschaftsgarten und der ursprünglichen barocken Anlage. Die Umwandlung geschah bereits 1804 im südlichen Parkteil. Dieser unterscheidet sich vom nördlichen Bereich in Charakter, Stimmung und Vegetation. Unser Rundgang führt zu seltenen Baumarten wie dem riesigen Tulpenbaum, den alten Weymouthkiefern und zu einer der imposantesten Eichen Münchens
DTSTART:20130616T100000
DTEND:20130616T120000
LOCATION: Freitreppe vor Schloss Nymphenburg
ORGANIZER:MVHS München West
END:VEVENT
END:VCALENDAR