BEGIN:VCALENDAR
VERSION:2.0
PRODID:-//Stadtgeschichte München//DE
CALSCALE:GREGORIAN
BEGIN:VEVENT
UID:4444@stadtgeschichte-muenchen.de
SUMMARY:Die Blutenburg
DESCRIPTION:Von der mittelalterlichen Anlage zum modernen Bücherschloss Das Gebäudeensemble aus dem 15. Jahrhundert wurde Anfang der achtziger Jahre renoviert und für die Zwecke der Internationalen Jugendbibliothek (IJB) ausgebaut. Der Rundgang durch die Schlossanlage einschließlich der Kapelle macht mit ihrer Geschichte und ihren kunsthistorischen Schätzen bekannt und stellt zugleich die Arbeit der weltweit einzigartigen Bibliothek für internationale Kinder- und Jugendliteratur vor. Besichtigt werden auch das Erich-Kästner-Zimmer, das Michael-Ende-Museum, das Binette-Schroeder-Kabinett und der James-Krüss-Turm. In Kooperation mit der Internationalen Jugendbibliothek (IJB).
DTSTART:20130419T150000
DTEND:20130419T170000
LOCATION:Schloss Blutenburg, Innenhof 
ORGANIZER:MVHS München West
END:VEVENT
END:VCALENDAR