BEGIN:VCALENDAR
VERSION:2.0
PRODID:-//Stadtgeschichte München//DE
CALSCALE:GREGORIAN
BEGIN:VEVENT
UID:4496@stadtgeschichte-muenchen.de
SUMMARY:Die Englischen Fräulein in Pasing (Congregatio Jesu)
DESCRIPTION:Ganz nah am Pasinger Marienplatz rahmt ein langgestrecktes Eckgebäude an der Planegger Straße/Institutstraße ein Gelände ein, das ein eigenes Bild der vergangenen 150 Jahre Pasinger Geschichte widerspiegelt - ein Bild der vielfältigen Aktivitäten der Congregatio Jesu, wie die offizielle Bezeichnung seit Januar 2003 lautet. Im Begehen des Geländes heute, in der Betrachtung alter Bilder und im Erzählen erscheinen Entwicklungsstränge der Gesellschaft, der schulischen Bildung und der Ordensgemeinschaft. Eine Veranstaltung im Rahmen des Stadtteiljubiläums â€ž1250 Jahre Pasing\"
DTSTART:20130718T173000
DTEND:20130718T193000
LOCATION:Eingangstor der Congregatio Jesu, Institutstr. 3
ORGANIZER:MVHS München West
END:VEVENT
END:VCALENDAR